BEGIN:VCALENDAR
VERSION:2.0
PRODID:-//Giovanni Matera - ECPv6.15.20//NONSGML v1.0//EN
CALSCALE:GREGORIAN
METHOD:PUBLISH
X-WR-CALNAME:Giovanni Matera
X-ORIGINAL-URL:https://staging.giovannimatera.it
X-WR-CALDESC:Eventi per Giovanni Matera
REFRESH-INTERVAL;VALUE=DURATION:PT1H
X-Robots-Tag:noindex
X-PUBLISHED-TTL:PT1H
BEGIN:VTIMEZONE
TZID:UTC
BEGIN:STANDARD
TZOFFSETFROM:+0000
TZOFFSETTO:+0000
TZNAME:UTC
DTSTART:20200101T000000
END:STANDARD
END:VTIMEZONE
BEGIN:VEVENT
DTSTART;TZID=UTC:20210419T080000
DTEND;TZID=UTC:20210419T170000
DTSTAMP:20260423T154729
CREATED:20210419T123402Z
LAST-MODIFIED:20210517T135039Z
UID:666-1618819200-1618851600@staging.giovannimatera.it
SUMMARY:IL SUCCESSO: O E' SERVIZIO O NON E'.
DESCRIPTION:CULTURA Seconda lezione formativa di Giovanni Matera nel Caffè letterario Don Chisciotte \nIl successo: o è servizio o non è \nConsapevolezza e integrità \nle condizioni per conseguirlo \nGli esempi di Cesare e Orazio e di Alessandro magno e Diogene \nIl trono che gronda di lacrime e sangue \nIl successo\, cercarlo?\nIeri sera nel Caffè letterario Don Chisciotte\, Giovanni Matera\, introdotto da Marilena Frigiola\, ha tenuto la seconda delle sue quattro lezioni sull’imprenditoria\, il tema era: Come avere successo? Ma sotto traccia scorrevano due domande: ma che cos’è successo ed è proprio il caso di cercarlo?\nNella prolusione materana e nel dibattito con gli ospiti sono stati elencati gli ingredienti del successo: conoscenza\, uscita dal proprio spazio anche pagando un dazio emotivo\, diversificarsi e distinguersi\, pensare da causa\, cioè ragionare sul necessario e possibile\, consapevolezza\, coraggio\, avere una meta o uno scopo e\, soprattutto essere credibili per propria integrità. Infine\, la misura del proprio successo vien data dal successo dei propri collaboratori.\nIl dibattito ha avuto momenti alti\, aprendosi all’interrogativo di Eric Fromm: essere o avere? E al conseguente rischio di alienazione\, cioè di uscire da sé e disperdersi inseguendo il successo con ogni mezzo\, con la conclusione di salire e salire\, ma\, nel voltarsi indietro trovarsi soli.\nIn una conversazione successiva al dibattito con Matera\, il successo è stato visto con due esempi contrapposti: successo ebbe Cesare\, che fu il più potente del mondo per un po’ d’anni e successo ebbe il poeta Orazio che lasciò gli splendori di Roma per un campetto nel quale vivere e regnare. E successo\, ha aggiunto Nunzio Tria\, ebbe Alessandro Magno e successo ebbe Diogene che lo irrise per tutti i tempi dicendogli: fatti più in là\, che mi nascondi il sole. E dunque il successo è riuscire nel proprio intento\, realizzarsi secondo le proprie attitudini o doti\, mai dimenticando le profondissime parole foscoliane nell’elogiare l’acume di Machiavelli ne Il Principe: di che lacrime e sangue grondi qualsiasi scettro\, il potere\, o il successo; monito che si collega ad uno delle caratteristiche del successo: aver fatto\, con la propria abilità e integrità\, il bene dei propri collaboratori\, o dei propri simili.\nE dunque il successo o è servizio o non è\, va cercato\, ma per restituire agli altri ciò che si è avuto da madre natura\, o perfino dal caso\, che i latini chiamavano “vitrea fortuna\, perché come splende così si rompe”. \n\nMichele Cristella\, Giornalista Professionista \nGiovanni Matera \nPer consultare altri miei articoli: \nwww.giovannimatera.it \n 
URL:https://staging.giovannimatera.it/evento/il-successo-o-e-servizio-o-non-e/
ATTACH;FMTTYPE=image/jpeg:https://staging.giovannimatera.it/wp-content/uploads/2021/04/293.jpg
END:VEVENT
END:VCALENDAR